BEGIN:VCALENDAR
BEGIN:VEVENT
CLASS:PUBLIC
CREATED:20260423T113714
DESCRIPTION:
DTEND:20500227T180000
DTSTAMP:20260423T113714
DTSTART:20190227T080000
LAST-MODIFIED:20091109T101015Z
LOCATION:CIDICS, , , , 
SUMMARY;LANGUAGE=en-us:Workshop Fluorescencia 3D y Confocal
BEGIN:VALARM
TRIGGER:-PT1440M
ACTION:DISPLAY
DESCRIPTION:Reminder
END:VALARM
END:VEVENT
END:VCALENDAR
